BEGIN:VCALENDAR
VERSION:2.0
PRODID:-//NoiseBreak - ECPv6.15.20//NONSGML v1.0//EN
CALSCALE:GREGORIAN
METHOD:PUBLISH
X-ORIGINAL-URL:https://noisebreak.ro
X-WR-CALDESC:Events for NoiseBreak
REFRESH-INTERVAL;VALUE=DURATION:PT1H
X-Robots-Tag:noindex
X-PUBLISHED-TTL:PT1H
BEGIN:VTIMEZONE
TZID:Europe/Bucharest
BEGIN:DAYLIGHT
TZOFFSETFROM:+0200
TZOFFSETTO:+0300
TZNAME:EEST
DTSTART:20220327T010000
END:DAYLIGHT
BEGIN:STANDARD
TZOFFSETFROM:+0300
TZOFFSETTO:+0200
TZNAME:EET
DTSTART:20221030T010000
END:STANDARD
BEGIN:DAYLIGHT
TZOFFSETFROM:+0200
TZOFFSETTO:+0300
TZNAME:EEST
DTSTART:20230326T010000
END:DAYLIGHT
BEGIN:STANDARD
TZOFFSETFROM:+0300
TZOFFSETTO:+0200
TZNAME:EET
DTSTART:20231029T010000
END:STANDARD
BEGIN:DAYLIGHT
TZOFFSETFROM:+0200
TZOFFSETTO:+0300
TZNAME:EEST
DTSTART:20240331T010000
END:DAYLIGHT
BEGIN:STANDARD
TZOFFSETFROM:+0300
TZOFFSETTO:+0200
TZNAME:EET
DTSTART:20241027T010000
END:STANDARD
END:VTIMEZONE
BEGIN:VEVENT
DTSTART;TZID=Europe/Bucharest:20231117T220000
DTEND;TZID=Europe/Bucharest:20231118T050000
DTSTAMP:20260422T212144
CREATED:20231016T125314Z
LAST-MODIFIED:20231104T175024Z
UID:22587-1700258400-1700283600@noisebreak.ro
SUMMARY:MODESTEP @ NOISEBREAK: CHAPTER VII
DESCRIPTION:Noisebreak CHAPTER VII – the biggest Dubstep & Drum and Bass event to hit Bucharest in recent years.\nThis is your chance to immerse yourself in the captivating world of Dubstep and Drum&Bass\, where bone-shaking bass and unbridled energy will leave you breathless.\nWe’ve assembled an outstanding line-up of top-tier artists\, including MODESTEP\, Alex Super Beats\, Aqquanox\, Sub:liminal and Soleil.\n━━━━━━━━━━━━━​​​​​━━━━​​​​​━━━\nINFO:\nDate: November 17\nOpening hours: 22:00\nAddress: Quantic Pub\, Șoseaua Grozăvești 82\n━━━━━━━━━━━━​​​━━━━━​​​━━━\nModestep is a Bass-influenced band formed in London. Inspired by the strong influence of rock music and the Underground Bass scene in the British capital\, this band has built a reputation in both the rock and electronic music domains. After nearly 10 years of touring\, their live show has taken them to almost every major city on the planet\, including as headliners.\n━━━━━━━━━━━━​​​━━━━━​​​━━━\nJoin the best chapter yet!\nGET YOUR TICKET NOW
URL:https://noisebreak.ro/event/modestep-noisebreak-chapter-vii/
LOCATION:Quantic\, Șoseaua Grozăvești 82\, Bucharest\, Bucharest\, 060752\, Romania
CATEGORIES:Show
ATTACH;FMTTYPE=image/jpeg:https://noisebreak.ro/wp-content/uploads/2023/10/398589008_857797293017429_6674276921473675874_n.jpg
ORGANIZER;CN="NoiseBreak":MAILTO:info@noisebreak.ro
END:VEVENT
END:VCALENDAR