BEGIN:VCALENDAR
VERSION:2.0
PRODID:-//NoiseBreak - ECPv6.15.20//NONSGML v1.0//EN
CALSCALE:GREGORIAN
METHOD:PUBLISH
X-ORIGINAL-URL:https://noisebreak.ro
X-WR-CALDESC:Events for NoiseBreak
REFRESH-INTERVAL;VALUE=DURATION:PT1H
X-Robots-Tag:noindex
X-PUBLISHED-TTL:PT1H
BEGIN:VTIMEZONE
TZID:Europe/Bucharest
BEGIN:DAYLIGHT
TZOFFSETFROM:+0200
TZOFFSETTO:+0300
TZNAME:EEST
DTSTART:20230326T010000
END:DAYLIGHT
BEGIN:STANDARD
TZOFFSETFROM:+0300
TZOFFSETTO:+0200
TZNAME:EET
DTSTART:20231029T010000
END:STANDARD
BEGIN:DAYLIGHT
TZOFFSETFROM:+0200
TZOFFSETTO:+0300
TZNAME:EEST
DTSTART:20240331T010000
END:DAYLIGHT
BEGIN:STANDARD
TZOFFSETFROM:+0300
TZOFFSETTO:+0200
TZNAME:EET
DTSTART:20241027T010000
END:STANDARD
BEGIN:DAYLIGHT
TZOFFSETFROM:+0200
TZOFFSETTO:+0300
TZNAME:EEST
DTSTART:20250330T010000
END:DAYLIGHT
BEGIN:STANDARD
TZOFFSETFROM:+0300
TZOFFSETTO:+0200
TZNAME:EET
DTSTART:20251026T010000
END:STANDARD
END:VTIMEZONE
BEGIN:VEVENT
DTSTART;TZID=Europe/Bucharest:20241116T220000
DTEND;TZID=Europe/Bucharest:20241117T050000
DTSTAMP:20260422T030612
CREATED:20240911T132050Z
LAST-MODIFIED:20250221T124232Z
UID:23808-1731794400-1731819600@noisebreak.ro
SUMMARY:CULTURE SHOCK & GENTLEMENS CLUB @ NoiseBreak: CHAPTER X
DESCRIPTION:After countless nights of Drum and Bass & Dubstep\, friend reunions and memories made through every beat\, we now step into CHAPTER X.\nGet ready to vibe with the return of CULTURE SHOCK\, here to deliver those next-level beats we all crave. Alongside him\, the UK trio GENTLEMENS CLUB will bring their multi-genre madness to the stage\, guaranteed to tear up the dancefloor.\nThis milestone is a tribute to our shared journey\, the vibrant community we’ve built\, and the music that continues to unite us.\n\n━━━━━━━━━━━━━​​​​​━━━━​​​​​━━━ \n\n\n\n\nINFO:Date: Novembre 16Opening hours: 22:00Address: Quantic Club━━━━━━━━━━━━━​​​​​━━━━​​​​​━━━Let’s BREAK THE NOISE together!\n\n\n\n\nGET YOUR TICKET NOW
URL:https://noisebreak.ro/event/culture-shock-gentlemens-club-noisebreak-chapter-x/
LOCATION:Quantic\, Șoseaua Grozăvești 82\, Bucharest\, Bucharest\, 060752\, Romania
CATEGORIES:Show
ATTACH;FMTTYPE=image/png:https://noisebreak.ro/wp-content/uploads/2024/09/461190614_1096950729102083_1273049398925832424_n.png
ORGANIZER;CN="NoiseBreak":MAILTO:info@noisebreak.ro
END:VEVENT
END:VCALENDAR