BEGIN:VCALENDAR
VERSION:2.0
PRODID:-//NoiseBreak - ECPv6.15.20//NONSGML v1.0//EN
CALSCALE:GREGORIAN
METHOD:PUBLISH
X-WR-CALNAME:NoiseBreak
X-ORIGINAL-URL:https://noisebreak.ro
X-WR-CALDESC:Events for NoiseBreak
REFRESH-INTERVAL;VALUE=DURATION:PT1H
X-Robots-Tag:noindex
X-PUBLISHED-TTL:PT1H
BEGIN:VTIMEZONE
TZID:Europe/Bucharest
BEGIN:DAYLIGHT
TZOFFSETFROM:+0200
TZOFFSETTO:+0300
TZNAME:EEST
DTSTART:20240331T010000
END:DAYLIGHT
BEGIN:STANDARD
TZOFFSETFROM:+0300
TZOFFSETTO:+0200
TZNAME:EET
DTSTART:20241027T010000
END:STANDARD
BEGIN:DAYLIGHT
TZOFFSETFROM:+0200
TZOFFSETTO:+0300
TZNAME:EEST
DTSTART:20250330T010000
END:DAYLIGHT
BEGIN:STANDARD
TZOFFSETFROM:+0300
TZOFFSETTO:+0200
TZNAME:EET
DTSTART:20251026T010000
END:STANDARD
BEGIN:DAYLIGHT
TZOFFSETFROM:+0200
TZOFFSETTO:+0300
TZNAME:EEST
DTSTART:20260329T010000
END:DAYLIGHT
BEGIN:STANDARD
TZOFFSETFROM:+0300
TZOFFSETTO:+0200
TZNAME:EET
DTSTART:20261025T010000
END:STANDARD
END:VTIMEZONE
BEGIN:VEVENT
DTSTART;TZID=Europe/Bucharest:20250823T180000
DTEND;TZID=Europe/Bucharest:20250823T230000
DTSTAMP:20260421T131116
CREATED:20250804T060740Z
LAST-MODIFIED:20250804T060857Z
UID:24647-1755972000-1755990000@noisebreak.ro
SUMMARY:NOISEBREAK SUNSET @ G8 Gardens
DESCRIPTION:
URL:https://noisebreak.ro/event/noisebreak-sunset-g8-gardens/
LOCATION:G8 Gardens\, Șoseaua Grozăvești 84a\, București\, Bucuresti\, 061344\, Romania
CATEGORIES:Show
ATTACH;FMTTYPE=image/jpeg:https://noisebreak.ro/wp-content/uploads/2025/08/527802281_1368122511984902_6446413010719057633_n.jpg
ORGANIZER;CN="NoiseBreak":MAILTO:info@noisebreak.ro
END:VEVENT
END:VCALENDAR